BEGIN:VCALENDAR
VERSION:2.0
PRODID:-//Carefree Cave Creek Chamber of Commerce - ECPv6.15.20//NONSGML v1.0//EN
CALSCALE:GREGORIAN
METHOD:PUBLISH
X-ORIGINAL-URL:https://carefreecavecreek.org
X-WR-CALDESC:Events for Carefree Cave Creek Chamber of Commerce
REFRESH-INTERVAL;VALUE=DURATION:PT1H
X-Robots-Tag:noindex
X-PUBLISHED-TTL:PT1H
BEGIN:VTIMEZONE
TZID:America/Phoenix
BEGIN:STANDARD
TZOFFSETFROM:-0700
TZOFFSETTO:-0700
TZNAME:MST
DTSTART:20250101T000000
END:STANDARD
END:VTIMEZONE
BEGIN:VEVENT
DTSTART;TZID=America/Phoenix:20260526T170000
DTEND;TZID=America/Phoenix:20260526T180000
DTSTAMP:20260423T025627
CREATED:20260413T185441Z
LAST-MODIFIED:20260413T185441Z
UID:10002685-1779814800-1779818400@carefreecavecreek.org
SUMMARY:Ribbon Cutting-Deer Valley Plumbing
DESCRIPTION:🎀 Ribbon-Cutting Ceremony – Join Us in Celebrating! 🎀 \n  \nThe Carefree Cave Creek Chamber of Commerce is thrilled to welcome Deer Valley Plumbing as our newest Chamber member! Join us as we celebrate their grand opening with a Ribbon-Cutting Ceremony \n  \nCome meet the owners\, tour their space\, and connect with fellow community members while showing your support for local business growth. This is a great opportunity to network\, enjoy refreshments\, and be part of the excitement! \n  \nLet’s give them a warm community welcome! \n  \n  \n#RibbonCutting #ChamberEvent #SupportLocal #carefreecavecreekchamber #Community \n 
URL:https://carefreecavecreek.org/event/ribbon-cutting-deer-valley-plumbing/
LOCATION:Deer Valley Plumbing\, 2411 W Lone Cactus\, Phoenix\, AZ\, 85027
CATEGORIES:Ribbon Cutting
END:VEVENT
END:VCALENDAR